{"text_format":"3","workbook":"xlsx","n_sheets":6,"sheets":["中高职（国办）","中高职（帮困）","技工（国办）","技工（帮困）","Sheet3","Sheet1"],"not_rendered":{"external_links":1,"defined_names":1},"read":"whole","date_system":"1900"}

{"sheet":"中高职（国办）","index":0,"n_rows":55,"n_cols":12,"rows_kept":55,"merged":[[0,0,0,11]]}
["2022年西咸新区建档立卡户家庭子女就读中高职台账（国办）"]
["序号","镇（街）","村组","户主姓名","学生姓名","性别","就读学校","专业","入学时间","学制","在校情况（在读/毕业）","备 注"]
[1,"马王","新泥河村",{"$f":"REPLACE(Sheet3!A1,2,1,\"*\")","v":"薛*芳"},{"$f":"REPLACE(Sheet3!B1,2,1,\"*\")","v":"梅*岩"},"女","陕西科技卫生学校","口腔修复工艺","2020.9",3,"在读"]
[2,"马王","沙河村",{"$f":"REPLACE(Sheet3!A2,2,1,\"*\")","v":"李*民"},{"$f":"REPLACE(Sheet3!B2,2,1,\"*\")","v":"李*鑫"},"女","陕西国际商贸学院附属中等职业技术学校","电子商务","2019.9",3,"　升读"]
[3,"马王","沙河村",{"$f":"REPLACE(Sheet3!A3,2,1,\"*\")","v":"屈*军"},{"$f":"REPLACE(Sheet3!B3,2,1,\"*\")","v":"屈*蕊"},"女","陕西职业技术学院","早期教育","2021.9",3,"在读"]
[4,"马王","马王村",{"$f":"REPLACE(Sheet3!A4,2,1,\"*\")","v":"张*义"},{"$f":"REPLACE(Sheet3!B4,2,1,\"*\")","v":"张*"},"女","西安高新科技职业学院","电子商务","2020.10",3,"在读"]
[5,"马王","马王村",{"$f":"REPLACE(Sheet3!A5,2,1,\"*\")","v":"李*亮"},{"$f":"REPLACE(Sheet3!B5,2,1,\"*\")","v":"李*茜"},"女","咸阳职业技术学院","数字媒体艺术设计","2021.9",3,"在读"]
[6,"马王","马王村",{"$f":"REPLACE(Sheet3!A6,2,1,\"*\")","v":"张*九"},{"$f":"REPLACE(Sheet3!B6,2,1,\"*\")","v":"张*博"},"男","陕西国际商贸学院附属中等职业技术学校","计算机应用","2021.9",3,"在读"]
[7,"马王","新旺村",{"$f":"REPLACE(Sheet3!A7,2,1,\"*\")","v":"王*利"},{"$f":"REPLACE(Sheet3!B7,2,1,\"*\")","v":"王*琦"},"女","陕西职业技术学院","工程造价","2020.10",3,"在读"]
[8,"正阳","付家",{"$f":"REPLACE(Sheet3!A8,2,1,\"*\")","v":"付*生"},{"$f":"REPLACE(Sheet3!B8,2,1,\"*\")","v":"付*娟"},"女","陕西省商贸学校","会计","2020.09","３","在读"]
[9,"正阳","王家",{"$f":"REPLACE(Sheet3!A9,2,1,\"*\")","v":"贺*顺"},{"$f":"REPLACE(Sheet3!B9,2,1,\"*\")","v":"贺*豪"},"男","西北工业学校","计算机","2020.09","３","在读"]
[10,"正阳","王家",{"$f":"REPLACE(Sheet3!A10,2,1,\"*\")","v":"贺*顺"},{"$f":"REPLACE(Sheet3!B10,2,1,\"*\")","v":"贺*鑫"},"男","陕西铁路工程职业技术学院","铁道机车","2020.09","３","在读"]
[11,"正阳","东风",{"$f":"REPLACE(Sheet3!A11,2,1,\"*\")","v":"王*民"},{"$f":"REPLACE(Sheet3!B11,2,1,\"*\")","v":"王*雯"},"女","陕西国防职业技术学院","计算机网络技术","2021.09","３","在读"]
[12,"正阳","唐家",{"$f":"REPLACE(Sheet3!A12,2,1,\"*\")","v":"唐*社"},{"$f":"REPLACE(Sheet3!B12,2,1,\"*\")","v":"唐*洋"},"男","西安交通工程学院","交通运输","2019.09","３","　升读"]
[13,"太平","太平堡村",{"$f":"REPLACE(Sheet3!A13,2,1,\"*\")","v":"孟*全"},{"$f":"REPLACE(Sheet3!B13,2,1,\"*\")","v":"孟*"},"女","泾阳职校","幼儿保育","2020.9.1",3,"在读"]
[14,"太平","寨头村",{"$f":"REPLACE(Sheet3!A14,2,1,\"*\")","v":"郭*营"},{"$f":"REPLACE(Sheet3!B14,2,1,\"*\")","v":"郭*乐"},"女","陕西省商贸学院","会计","2019.9",3,"　升读"]
[15,"太平","竹范村",{"$f":"REPLACE(Sheet3!A15,2,1,\"*\")","v":"王*"},{"$f":"REPLACE(Sheet3!B15,2,1,\"*\")","v":"王*"},"男","西安铁路职业技术学院","城市轨道车辆应用技术","2021.10","3","在读"]
[16,"大王","梧桐村",{"$f":"REPLACE(Sheet3!A16,2,1,\"*\")","v":"苏*厚"},{"$f":"REPLACE(Sheet3!B16,2,1,\"*\")","v":"苏*娜"},"女","西安职业中等专业学校","学前教育",2021.9,5,"在读"]
[17,"大王","梧桐村",{"$f":"REPLACE(Sheet3!A17,2,1,\"*\")","v":"杨*龙"},{"$f":"REPLACE(Sheet3!B17,2,1,\"*\")","v":"杨*祥"},"男","咸阳市秦都区职业教育中心","电子商务",2020.9,5,"在读"]
[18,"大王","北宋村",{"$f":"REPLACE(Sheet3!A18,2,1,\"*\")","v":"申*周"},{"$f":"REPLACE(Sheet3!B18,2,1,\"*\")","v":"申*龙"},"男","西安航空职业技术学院","机电一体技术",2021.9,"3","在读"]
[19,"大王","大王西村",{"$f":"REPLACE(Sheet3!A19,2,1,\"*\")","v":"白*会"},{"$f":"REPLACE(Sheet3!B19,2,1,\"*\")","v":"白*琪"},"男","陕西省职业技术学院","机械制造及自动化",2021.9,3,"在读"]
[20,"大王","大王西村",{"$f":"REPLACE(Sheet3!A20,2,1,\"*\")","v":"方*峰"},{"$f":"REPLACE(Sheet3!B20,2,1,\"*\")","v":"方*欣"},"男","陕西青年职业学院","大数据与会计",2021.9,3,"在读"]
[21,"大王","大王西村",{"$f":"REPLACE(Sheet3!A21,2,1,\"*\")","v":"赵*梅"},{"$f":"REPLACE(Sheet3!B21,2,1,\"*\")","v":"陈*栋"},"男","西安生物医药技术职业学校","口腔修复工艺",2021.9,3,"在读"]
[22,"大王","王守村",{"$f":"REPLACE(Sheet3!A22,2,1,\"*\")","v":"胡*悟"},{"$f":"REPLACE(Sheet3!B22,2,1,\"*\")","v":"胡*习"},"男","西安交通工程学院","城市轨道交通运营管理","2019.9",5,"在读"]
[23,"大王","龙台坊东堡村",{"$f":"REPLACE(Sheet3!A23,2,1,\"*\")","v":"宋*兵"},{"$f":"REPLACE(Sheet3!B23,2,1,\"*\")","v":"宋*顺"},"男","西安电力高等专科学校","发电厂及电力系统","2019.9",3,"毕业"]
[24,"大王","富村",{"$f":"REPLACE(Sheet3!A24,2,1,\"*\")","v":"赵*友"},{"$f":"REPLACE(Sheet3!B24,2,1,\"*\")","v":"赵*腾"},"男","西安市鄠邑区职教中心","机械加工专业","2020.9",3,"在读"]
[25,"大王","南凿齿村",{"$f":"REPLACE(Sheet3!A25,2,1,\"*\")","v":"张*武"},{"$f":"REPLACE(Sheet3!B25,2,1,\"*\")","v":"张*忠"},"男","西安市鄠邑区职教中心","机械加工专业","2019.9",3,"毕业"]
[26,"大王","康王村",{"$f":"REPLACE(Sheet3!A26,2,1,\"*\")","v":"靳*群"},{"$f":"REPLACE(Sheet3!B26,2,1,\"*\")","v":"靳*杰"},"男","陕西国际商贸学院附属中等职业技术学校　　　　　　　　　　　　　　　　　　　　　　","会计电算化","2019.9",3,"　升读"]
[27,"大王","北凿齿村",{"$f":"REPLACE(Sheet3!A27,2,1,\"*\")","v":"张*利"},{"$f":"REPLACE(Sheet3!B27,2,1,\"*\")","v":"闫*艳"},"女","陕西工业职业技术学院","市场营销",2021.9,3,"在读"]
[28,"崇文","摆渡村",{"$f":"REPLACE(Sheet3!A28,2,1,\"*\")","v":"王*"},{"$f":"REPLACE(Sheet3!B28,2,1,\"*\")","v":"王*培"},"男","陕西交通职业技术学院","道路与桥梁工程技术","20210904","３","在读"]
[29,"崇文","北丈村",{"$f":"REPLACE(Sheet3!A29,2,1,\"*\")","v":"赵*良"},{"$f":"REPLACE(Sheet3!B29,2,1,\"*\")","v":"赵*月"},"女","西安职业技术学院","幼儿保育","20210901","５","在读"]
[30,"崇文","北丈村",{"$f":"REPLACE(Sheet3!A30,2,1,\"*\")","v":"宁*贵"},{"$f":"REPLACE(Sheet3!B30,2,1,\"*\")","v":"徐*远"},"男","咸阳职业技术学院","建筑工程技术","20210921","３","在读"]
[31,"崇文","花池渡村",{"$f":"REPLACE(Sheet3!A31,2,1,\"*\")","v":"孙*均"},{"$f":"REPLACE(Sheet3!B31,2,1,\"*\")","v":"孙*"},"女","陕西职业技术学院","市场营销","20201001","３","在读"]
[32,"崇文","焦村",{"$f":"REPLACE(Sheet3!A32,2,1,\"*\")","v":"王*刚"},{"$f":"REPLACE(Sheet3!B32,2,1,\"*\")","v":"王*祥"},"女","西安涉外职业高中","旅游外语","20210901","３","在读"]
[33,"崇文","焦村",{"$f":"REPLACE(Sheet3!A33,2,1,\"*\")","v":"刘*"},{"$f":"REPLACE(Sheet3!B33,2,1,\"*\")","v":"刘*恒"},"男","西安高新科技职业学院","软件技术","20210908","３","在读"]
[34,"崇文","焦村",{"$f":"REPLACE(Sheet3!A34,2,1,\"*\")","v":"王*"},{"$f":"REPLACE(Sheet3!B34,2,1,\"*\")","v":"王*"},"女","陕西工商职业学院","会计","20200901","３","在读"]
[35,"崇文","马庄村",{"$f":"REPLACE(Sheet3!A35,2,1,\"*\")","v":"王*长"},{"$f":"REPLACE(Sheet3!B35,2,1,\"*\")","v":"王*康"},"男","西安航空职业技术学院","机电一体化技术","20210906","５","在读"]
[36,"崇文","马庄村",{"$f":"REPLACE(Sheet3!A36,2,1,\"*\")","v":"杨*春"},{"$f":"REPLACE(Sheet3!B36,2,1,\"*\")","v":"杨*"},"女","西安医学高等专科学校","口腔医学","20210901","５","在读"]
[37,"崇文","宋村",{"$f":"REPLACE(Sheet3!A37,2,1,\"*\")","v":"张*明"},{"$f":"REPLACE(Sheet3!B37,2,1,\"*\")","v":"张*圆"},"女","陕西学前师范学院","会计","2019.９","３","　升读"]
[38,"崇文","唐李村",{"$f":"REPLACE(Sheet3!A38,2,1,\"*\")","v":"史*成"},{"$f":"REPLACE(Sheet3!B38,2,1,\"*\")","v":"史*乐"},"男","陕西省泾阳县职业中等专业学校","电子商务","20210901","３","在读"]
[39,"永乐","永丰村车站组",{"$f":"REPLACE(Sheet3!A39,2,1,\"*\")","v":"严*昌"},{"$f":"REPLACE(Sheet3!B39,2,1,\"*\")","v":"严*豪"},"男","西安铁路职业技术学院","铁道交通运输管理","2021.10","３","在读"]
[40,"永乐","永丰村后西组",{"$f":"REPLACE(Sheet3!A40,2,1,\"*\")","v":"张*兴"},{"$f":"REPLACE(Sheet3!B40,2,1,\"*\")","v":"李*雨"},"女","陕西财经职业技术学院","大数据与会计","2021.9","３","在读"]
[41,"永乐","南吴村沙里王组",{"$f":"REPLACE(Sheet3!A41,2,1,\"*\")","v":"张*阳"},{"$f":"REPLACE(Sheet3!B41,2,1,\"*\")","v":"张*"},"男","陕西能源职业技术学院","应用化工","2019.９","３","毕业"]
[42,"永乐","大齐村东组",{"$f":"REPLACE(Sheet3!A42,2,1,\"*\")","v":"储*利"},{"$f":"REPLACE(Sheet3!B42,2,1,\"*\")","v":"储*梦"},"女","陕西省泾阳职业中等专业学校","幼儿保育","2020.9","３","在读"]
[43,"永乐","大齐村",{"$f":"REPLACE(Sheet3!A43,2,1,\"*\")","v":"李*州"},{"$f":"REPLACE(Sheet3!B43,2,1,\"*\")","v":"李*静"},"女","西安外事学院","新闻采编与制作",2021.9,"３","在读"]
[44,"永乐","都家村北二组",{"$f":"REPLACE(Sheet3!A44,2,1,\"*\")","v":"李*林"},{"$f":"REPLACE(Sheet3!B44,2,1,\"*\")","v":"李*瑶"},"女","渭南职业技术学院","中医学",2020.1,"３","在读"]
[45,"永乐","邵村",{"$f":"REPLACE(Sheet3!A45,2,1,\"*\")","v":"张*"},{"$f":"REPLACE(Sheet3!B45,2,1,\"*\")","v":"张*翔"},"男","陕西能源职业技术学院","煤田地质与勘查技术","20210901","３","在读"]
[46,"永乐","邵村",{"$f":"REPLACE(Sheet3!A46,2,1,\"*\")","v":"刘*"},{"$f":"REPLACE(Sheet3!B46,2,1,\"*\")","v":"刘*彤"},"女","川北幼儿师范高等专科学校","学前教育","20201010","３","在读"]
[47,"永乐","花李村花李组",{"$f":"REPLACE(Sheet3!A47,2,1,\"*\")","v":"王*义"},{"$f":"REPLACE(Sheet3!B47,2,1,\"*\")","v":"王*怡"},"女","汉中职业技术学院","口腔医学","2021.9.10","３","在读"]
[48,"永乐","亢营村",{"$f":"REPLACE(Sheet3!A48,2,1,\"*\")","v":"郭*"},{"$f":"REPLACE(Sheet3!B48,2,1,\"*\")","v":"郭*"},"女","陕西工业职业技术学院","计算机信息管理","20190828",3,"在读"]
[49,"永乐","田村",{"$f":"REPLACE(Sheet3!A49,2,1,\"*\")","v":"李*"},{"$f":"REPLACE(Sheet3!B49,2,1,\"*\")","v":"李*曦"},"男","陕西职业技术学院","动漫设计","2019.9.1",3,"毕业"]
[50,"高庄","新庄村",{"$f":"REPLACE(Sheet3!A50,2,1,\"*\")","v":"费*宁"},{"$f":"REPLACE(Sheet3!B50,2,1,\"*\")","v":"费*浪"},"男","陕西省泾阳县职业中等专业学校","计算机","2019.9","3＋２","升读"]
[51,"高庄","新庄村",{"$f":"REPLACE(Sheet3!A51,2,1,\"*\")","v":"杨*西"},{"$f":"REPLACE(Sheet3!B51,2,1,\"*\")","v":"杨*明"},"男","西安铁路职业技术学院","铁道施工养护","2019.9",3,"毕业"]
[52,"高庄","新庄村",{"$f":"REPLACE(Sheet3!A52,2,1,\"*\")","v":"赵*娃"},{"$f":"REPLACE(Sheet3!B52,2,1,\"*\")","v":"赵*塬"},"男","陕西省泾阳县职业中等专业学校","计算机应用","2020.9",3,"在读"]
[53,"高庄","新庄村",{"$f":"REPLACE(Sheet3!A53,2,1,\"*\")","v":"费*荣"},{"$f":"REPLACE(Sheet3!B53,2,1,\"*\")","v":"费*"},"男","陕西省泾阳县职业中等专业学校","计算机应用","2020.9",3,"在读"]

{"sheet":"中高职（帮困）","index":1,"n_rows":16,"n_cols":12,"rows_kept":16,"merged":[[0,0,0,11]]}
["2022年西咸新区建档立卡户家庭子女就读中高职台账(帮困对象）"]
["序号","镇（街）","村组","户主姓名","学生姓名","性别","就读学校","专业","入学时间","学制","在校情况（在读/毕业）","备 注"]
[1,"渭城","坡刘村",{"$f":"REPLACE(Sheet1!A1,2,1,\"*\")","v":"刘*生"},{"$f":"REPLACE(Sheet1!C1,2,1,\"*\")","v":"刘*凡"},"女","西安军需工业学校","皮革制品造型设计","2019.9",3,"毕业"]
[2,"渭城","渭城湾村",{"$f":"REPLACE(Sheet1!A2,2,1,\"*\")","v":"鲁*杰"},{"$f":"REPLACE(Sheet1!C2,2,1,\"*\")","v":"鲁*杰"},"男","陕西国际商贸学院附属中等职业技术学校","计算机应用专业","2020.9","3","在读"]
[3,"北杜","西刘村",{"$f":"REPLACE(Sheet1!A3,2,1,\"*\")","v":"刘*库"},{"$f":"REPLACE(Sheet1!C3,2,1,\"*\")","v":"刘*博"},"男","陕西工业职业技术学院","电气自动化",2021.9,"3","在读"]
[4,"斗门","南街社区",{"$f":"REPLACE(Sheet1!A4,2,1,\"*\")","v":"郝*佩"},{"$f":"REPLACE(Sheet1!C4,2,1,\"*\")","v":"郝*妙"},"女","西安医学高等专科学校","药学专业",2021.9,"3+2","在读"]
[5,"窑店","长兴村",{"$f":"REPLACE(Sheet1!A5,2,1,\"*\")","v":"张*艳"},{"$f":"REPLACE(Sheet1!C5,2,1,\"*\")","v":"张*雨"},"女","西安涉外职业高中","旅游外语","2021.9","3","在读"]
[6,"窑店街道","西毛村",{"$f":"REPLACE(Sheet1!A6,2,1,\"*\")","v":"李*兰"},{"$f":"REPLACE(Sheet1!C6,2,1,\"*\")","v":"何*凡"},"女","渭南西北新世纪职业中等专业学校","城市轨道交通运营","2019.9",3,"升学"]
[7,"窑店街道","刘家沟村",{"$f":"REPLACE(Sheet1!A7,2,1,\"*\")","v":"白*豪"},{"$f":"REPLACE(Sheet1!C7,2,1,\"*\")","v":"白*豪"},"男","陕西国际商贸学院","计算机应用","2019.9",3,"升学"]
[8,"正阳","后沟",{"$f":"REPLACE(Sheet1!A8,2,1,\"*\")","v":"王*芹"},{"$f":"REPLACE(Sheet1!C8,2,1,\"*\")","v":"刘*伟"},"男","咸阳理工职业学校","计算机应用","2019.09","3","毕业"]
[9,"正阳","杨新庄",{"$f":"REPLACE(Sheet1!A9,2,1,\"*\")","v":"马*峰"},{"$f":"REPLACE(Sheet1!C9,2,1,\"*\")","v":"马*龙"},"男","咸阳职业技术学院","数字媒体艺术设计","2020.10","3","在读"]
[10,"王寺街道","北陶村",{"$f":"REPLACE(Sheet1!A10,2,1,\"*\")","v":"惠*超"},{"$f":"REPLACE(Sheet1!C10,2,1,\"*\")","v":"惠*强"},"男","咸阳市秦都区职业教育中心","汽车运用与维修","2020.09","3","在读"]
[11,"高桥","阴水坊8组",{"$f":"REPLACE(Sheet1!A11,2,1,\"*\")","v":"李*位"},{"$f":"REPLACE(Sheet1!C11,2,1,\"*\")","v":"李*宝"},"男","咸阳职业技术学院","工程造价","2020.10.1",3,"在读"]
[12,"高桥","马务村",{"$f":"REPLACE(Sheet1!A12,2,1,\"*\")","v":"李*线"},{"$f":"REPLACE(Sheet1!C12,2,1,\"*\")","v":"刘*阔"},"女","陕西工商职业学院","市场营销","2019.9",3,"毕业"]
[13,"高桥","严家渠村",{"$f":"REPLACE(Sheet1!A13,2,1,\"*\")","v":"孙*辉"},{"$f":"REPLACE(Sheet1!C13,2,1,\"*\")","v":"孙*"},"男","鄠邑区职教中心","/","2021.9",3,"2022.9\n已退学"]
[14,"高桥","马务村",{"$f":"REPLACE(Sheet1!A14,2,1,\"*\")","v":"李*线"},{"$f":"REPLACE(Sheet1!C14,2,1,\"*\")","v":"刘*熙"},"男","西安高新科技职业学院","口腔医学","2020.9",3,"在读"]

{"sheet":"技工（国办）","index":2,"n_rows":24,"n_cols":12,"rows_kept":24,"merged":[[0,0,0,11]]}
["2022年西咸新区建档立卡户家庭子女就读技工院校台账（国办）"]
["序号","街道","村组","户主姓名","学生姓名","性别","就读学校","专业","入学时间","学制","在校情况（在读/毕业）","备 注"]
[1,"马王","新泥河村",{"$f":"REPLACE([1]Sheet1!F1,2,1,\"*\")","v":"李*涛"},{"$f":"REPLACE([1]Sheet1!H1,2,1,\"*\")","v":"李*语"},"女","西安商贸科技技术学校","城市轨道交通运输与管理","2020.9",3,"在读"]
[2,"马王","客省庄村",{"$f":"REPLACE([1]Sheet1!F2,2,1,\"*\")","v":"高*敏"},{"$f":"REPLACE([1]Sheet1!H2,2,1,\"*\")","v":"高*丹"},"女","西安商贸科技技术学校","护理","2020.9","3","在读"]
[3,"正阳","舒家",{"$f":"REPLACE([1]Sheet1!F3,2,1,\"*\")","v":"钱*超"},{"$f":"REPLACE([1]Sheet1!H3,2,1,\"*\")","v":"钱*"},"男","陕西省商贸技工学校","新能源汽车检测与维修","2020.03",3,"在读"]
[4,"正阳","小徐",{"$f":"REPLACE([1]Sheet1!F4,2,1,\"*\")","v":"徐*民"},{"$f":"REPLACE([1]Sheet1!H4,2,1,\"*\")","v":"徐*祥"},"男","陕西交通技师学院","公路施工","2020.09",3,"在读"]
[5,"正阳","东风",{"$f":"REPLACE([1]Sheet1!F5,2,1,\"*\")","v":"白*红"},{"$f":"REPLACE([1]Sheet1!H5,2,1,\"*\")","v":"赵*涛"},"男","渭南市轨道交通运输高级技工学校","汽车维修","2021.09",1,"毕业"]
[6,"大王","北宋村",{"$f":"REPLACE([1]Sheet1!F6,2,1,\"*\")","v":"赵*记"},{"$f":"REPLACE([1]Sheet1!H6,2,1,\"*\")","v":"赵*天"},"男","西安铁道技师学院","电力机车运用与检修",2021.9,5,"在读"]
[7,"大王","王守村",{"$f":"REPLACE([1]Sheet1!F7,2,1,\"*\")","v":"李*挺"},{"$f":"REPLACE([1]Sheet1!H7,2,1,\"*\")","v":"李*珺"},"男","西安技师学院","机电","2020.9",5,"在读"]
[8,"大王","康王村",{"$f":"REPLACE([1]Sheet1!F8,2,1,\"*\")","v":"李*武"},{"$f":"REPLACE([1]Sheet1!H8,2,1,\"*\")","v":"李*祥"},"男","西安城市交通技师学院","电梯","2018.9",4,"毕业"]
[9,"大王","联庄村",{"$f":"REPLACE([1]Sheet1!F9,2,1,\"*\")","v":"杨*民"},{"$f":"REPLACE([1]Sheet1!H9,2,1,\"*\")","v":"杨*"},"女","西安城市交通技师学院","高铁乘务","2020..8",3,"在读"]
[10,"崇文","虎杨村",{"$f":"REPLACE([1]Sheet1!F10,2,1,\"*\")","v":"刘*玲"},{"$f":"REPLACE([1]Sheet1!H10,2,1,\"*\")","v":"吴*"},null,"陕西交通技师学院","汽车维修","20210301",5,"在读"]
[11,"崇文","宋村",{"$f":"REPLACE([1]Sheet1!F11,2,1,\"*\")","v":"王*才"},{"$f":"REPLACE([1]Sheet1!H11,2,1,\"*\")","v":"王*伟"},"男","陕西交通技师学院","汽车维修","20190901",5,"在读"]
[12,"崇文","唐李村",{"$f":"REPLACE([1]Sheet1!F12,2,1,\"*\")","v":"唐*旗"},{"$f":"REPLACE([1]Sheet1!H12,2,1,\"*\")","v":"唐*敏"},"女","西安交通工程技工学校","交通客运服务","20210901",3,"在读"]
[13,"永乐","永丰村新永南组",{"$f":"REPLACE([1]Sheet1!F13,2,1,\"*\")","v":"张*忠"},{"$f":"REPLACE([1]Sheet1!H13,2,1,\"*\")","v":"张*晓"},"男","陕西金穗汽车学院","汽车维修","2018.9.1",5,"在读"]
[14,"永乐","永丰村新永南组",{"$f":"REPLACE([1]Sheet1!F14,2,1,\"*\")","v":"王*升"},{"$f":"REPLACE([1]Sheet1!H14,2,1,\"*\")","v":"王*航"},"男","陕西交通技师学院","交通客服","2019.8.17","3+2","在读"]
[15,"永乐","双赵村毗一组",{"$f":"REPLACE([1]Sheet1!F15,2,1,\"*\")","v":"蔡*锁"},{"$f":"REPLACE([1]Sheet1!H15,2,1,\"*\")","v":"蔡*青"},"女","陕西省水利技工学校","三年高中","2021.9",3,"在读"]
[16,"永乐","邵村",{"$f":"REPLACE([1]Sheet1!F16,2,1,\"*\")","v":"刘*力"},{"$f":"REPLACE([1]Sheet1!H16,2,1,\"*\")","v":"刘*俊"},"女","陕西交通技师学院","电子商务","20210901",3,"在读"]
[17,"永乐","邵村",{"$f":"REPLACE([1]Sheet1!F17,2,1,\"*\")","v":"张*民"},{"$f":"REPLACE([1]Sheet1!H17,2,1,\"*\")","v":"王*娟"},"女","陕西省水利技工学校","电气自动化设备安装与维修","20210901",3,"在读"]
[18,"永乐","永乐村新永北组",{"$f":"REPLACE([1]Sheet1!F18,2,1,\"*\")","v":"高*娥"},{"$f":"REPLACE([1]Sheet1!H18,2,1,\"*\")","v":"余*杰"},"男","陕西交通技师学院","公路施工与养护","2019.8.25",5,"在读"]
[19,"永乐","永乐村新永北组",{"$f":"REPLACE([1]Sheet1!F19,2,1,\"*\")","v":"雷*岭"},{"$f":"REPLACE([1]Sheet1!H19,2,1,\"*\")","v":"雷*豪"},"男","陕西交通技师学院","汽车维修","2019.8.25",5,"在读"]
[20,"永乐","大齐村黑头马组",{"$f":"REPLACE([1]Sheet1!F20,2,1,\"*\")","v":"马*龙"},{"$f":"REPLACE([1]Sheet1!H20,2,1,\"*\")","v":"马*鑫"},"女","陕西现代工业技术学校","高铁乘务",2018.9,4,"毕业"]
[21,"永乐","都家村北二组",{"$f":"REPLACE([1]Sheet1!F21,2,1,\"*\")","v":"李*林"},{"$f":"REPLACE([1]Sheet1!H21,2,1,\"*\")","v":"李*豪"},"男","陕西水利技校","电气自动化","2021.09",3,"在读"]
[22,"高庄","金田玉",{"$f":"REPLACE([1]Sheet1!F22,2,1,\"*\")","v":"孙*革"},{"$f":"REPLACE([1]Sheet1!H22,2,1,\"*\")","v":"孙*怡"},null,"西安城市交通技师学院","幼儿教育","2018.9",5,"在读"]

{"sheet":"技工（帮困）","index":3,"n_rows":9,"n_cols":12,"rows_kept":9,"merged":[[0,0,0,11]]}
["2022年西咸新区建档立卡户家庭子女就读技工院校台账（帮困对象）"]
["序号","街道","村组","户主姓名","学生姓名","性别","就读学校","专业","入学时间","学制","在校情况（在读/毕业）","备 注"]
[1,"钓台街道","原为王道村",{"$f":"REPLACE([1]Sheet1!A1,2,1,\"*\")","v":"姚*建"},{"$f":"REPLACE([1]Sheet1!C1,2,1,\"*\")","v":"姚*松"},"男","西安技师学院","发电厂及变电站应用和维修",2021.9,5,"在读"]
[2,"上林街道","南槐",{"$f":"REPLACE([1]Sheet1!A2,2,1,\"*\")","v":"董*红"},{"$f":"REPLACE([1]Sheet1!C2,2,1,\"*\")","v":"董*东"},"男","西安齐力铁路技工学校","电气化供电",2018.9,"3+1","毕业"]
[3,"上林街道","七里铺",{"$f":"REPLACE([1]Sheet1!A3,2,1,\"*\")","v":"聂*芹"},{"$f":"REPLACE([1]Sheet1!C3,2,1,\"*\")","v":"邵*峪"},"男","西安城市交通技师学院","高速动车维修技术",2020.9,5,"在读"]
[4,"正阳","史村",{"$f":"REPLACE([1]Sheet1!A4,2,1,\"*\")","v":"张*子"},{"$f":"REPLACE([1]Sheet1!C4,2,1,\"*\")","v":"张*欣"},"女","西安城市交通技师学院","高铁乘务",2019.3,3,"毕业"]
[5,"正阳","黄家寨",{"$f":"REPLACE([1]Sheet1!A5,2,1,\"*\")","v":"洪*霓"},{"$f":"REPLACE([1]Sheet1!C5,2,1,\"*\")","v":"洪*霓"},"女","西安城市交通技师学院","高铁乘务",2019.3,3,"毕业"]
[6,"正阳","马家堡",{"$f":"REPLACE([1]Sheet1!A6,2,1,\"*\")","v":"余*朋"},{"$f":"REPLACE([1]Sheet1!C6,2,1,\"*\")","v":"余*洋"},"男","西安商贸科技技术学校","汽车维修",2019.3,3,"毕业"]
[7,"高桥","马务村",{"$f":"REPLACE([1]Sheet1!A7,2,1,\"*\")","v":"李*线"},{"$f":"REPLACE([1]Sheet1!C7,2,1,\"*\")","v":"刘*卓"},"男","西安轨道交通技师学院","铁道信号","2019.9",4,"在读"]

{"sheet":"Sheet3","index":4,"n_rows":53,"n_cols":2,"rows_kept":53,"hidden":true}
["薛秀芳","梅紫岩"]
["李岁民","李孟鑫"]
["屈武军","屈玉蕊"]
["张建义","张朵"]
["李新亮","李南茜"]
["张一九","张龙博"]
["王均利","王思琦"]
["付朝生","付红娟"]
["贺东顺","贺珂豪"]
["贺东顺","贺珂鑫"]
["王新民","王思雯"]
["唐公社","唐旭洋"]
["孟亚全","孟珂"]
["郭联营","郭欢乐"]
["王放","王浪"]
["苏根厚","苏维娜"]
["杨彦龙","杨宇祥"]
["申民周","申世龙"]
["白文会","白佳琪"]
["方俊峰","方雨欣"]
["赵青梅","陈浩栋"]
["胡再悟","胡选习"]
["宋团兵","宋旭顺"]
["赵建友","赵吉腾"]
["张志武","张佳忠"]
["靳天群","靳豪杰"]
["张换利","闫美艳"]
["王俊","王佳培"]
["赵根良","赵李月"]
["宁启贵","徐宁远"]
["孙平均","孙娇"]
["王永刚","王仪祥"]
["刘博","刘裕恒"]
["王文","王巧"]
["王军长","王平康"]
["杨大春","杨妍"]
["张小明","张梦圆"]
["史风成","史佳乐"]
["严学昌","严宇豪"]
["张长兴","李欣雨"]
["张随阳","张龙"]
["储胜利","储欣梦"]
["李玉州","李沛静"]
["李小林","李艺瑶"]
["张震","张志翔"]
["刘猛","刘梓彤"]
["王民义","王泽怡"]
["郭振","郭启"]
["李伟","李晨曦"]
["费步宁","费浪浪"]
["杨传西","杨家明"]
["赵全娃","赵金塬"]
["费清荣","费锦"]

{"sheet":"Sheet1","index":5,"n_rows":14,"n_cols":3,"rows_kept":14,"hidden":true}
["刘永生",null,"刘依凡"]
["鲁思杰",null,"鲁思杰"]
["刘库库",null,"刘钰博"]
["郝佩佩",null,"郝鑫妙"]
["张金艳",null,"张心雨"]
["李爱兰",null,"何一凡"]
["白君豪",null,"白君豪"]
["王秀芹",null,"刘佳伟"]
["马天峰",null,"马凯龙"]
["惠吉超",null,"惠文强"]
["李占位",null,"李家宝"]
["李令线",null,"刘阔阔"]
["孙朝辉",null,"孙帅"]
["李令线",null,"刘泽熙"]